BEGIN:VCALENDAR
VERSION:2.0
PRODID:-//In-Mold Decorating Association - ECPv6.15.20//NONSGML v1.0//EN
CALSCALE:GREGORIAN
METHOD:PUBLISH
X-WR-CALNAME:In-Mold Decorating Association
X-ORIGINAL-URL:https://imdassociation.com
X-WR-CALDESC:Events for In-Mold Decorating Association
REFRESH-INTERVAL;VALUE=DURATION:PT1H
X-Robots-Tag:noindex
X-PUBLISHED-TTL:PT1H
BEGIN:VTIMEZONE
TZID:UTC
BEGIN:STANDARD
TZOFFSETFROM:+0000
TZOFFSETTO:+0000
TZNAME:UTC
DTSTART:20250101T000000
END:STANDARD
END:VTIMEZONE
BEGIN:VEVENT
DTSTART;TZID=UTC:20260901T160000
DTEND;TZID=UTC:20260903T120000
DTSTAMP:20260422T074341
CREATED:20260421T185047Z
LAST-MODIFIED:20260421T185543Z
UID:12960-1788278400-1788436800@imdassociation.com
SUMMARY:Plastic Product Decorating Summit
DESCRIPTION:We’re headed to Sugar Land\, Texas\, in the Houston area for the 2026 Plastic Product Decorating Summit! Make plans now to join Plastics Decorating Magazine and the In-Mold Decorating Association (IMDA)\, September 1-3. \n\n\n\nGet this event on your calendar and join OEMs\, brand owners\, molders\, decorators\, label printers and those providing equipment and consumables to learn\, listen and discuss the latest application methods\, equipment advances\, best practices and market trends in plastics decorating and labeling.
URL:https://imdassociation.com/event/plastic-product-decorating-summit-2/
END:VEVENT
END:VCALENDAR